BEGIN:VCALENDAR
VERSION:2.0
PRODID:-//ESV Lok Berlin-Schöneweide e.V. - ECPv6.15.17//NONSGML v1.0//EN
CALSCALE:GREGORIAN
METHOD:PUBLISH
X-ORIGINAL-URL:https://esvlokschoeneweide.de
X-WR-CALDESC:Veranstaltungen für ESV Lok Berlin-Schöneweide e.V.
REFRESH-INTERVAL;VALUE=DURATION:PT1H
X-Robots-Tag:noindex
X-PUBLISHED-TTL:PT1H
BEGIN:VTIMEZONE
TZID:Europe/Berlin
BEGIN:DAYLIGHT
TZOFFSETFROM:+0100
TZOFFSETTO:+0200
TZNAME:CEST
DTSTART:20240331T010000
END:DAYLIGHT
BEGIN:STANDARD
TZOFFSETFROM:+0200
TZOFFSETTO:+0100
TZNAME:CET
DTSTART:20241027T010000
END:STANDARD
BEGIN:DAYLIGHT
TZOFFSETFROM:+0100
TZOFFSETTO:+0200
TZNAME:CEST
DTSTART:20250330T010000
END:DAYLIGHT
BEGIN:STANDARD
TZOFFSETFROM:+0200
TZOFFSETTO:+0100
TZNAME:CET
DTSTART:20251026T010000
END:STANDARD
BEGIN:DAYLIGHT
TZOFFSETFROM:+0100
TZOFFSETTO:+0200
TZNAME:CEST
DTSTART:20260329T010000
END:DAYLIGHT
BEGIN:STANDARD
TZOFFSETFROM:+0200
TZOFFSETTO:+0100
TZNAME:CET
DTSTART:20261025T010000
END:STANDARD
END:VTIMEZONE
BEGIN:VEVENT
DTSTART;TZID=Europe/Berlin:20250628T140000
DTEND;TZID=Europe/Berlin:20250628T170000
DTSTAMP:20260424T211958
CREATED:20220615T152308Z
LAST-MODIFIED:20250621T105245Z
UID:2826-1751119200-1751130000@esvlokschoeneweide.de
SUMMARY:Offenes Vereinssportfest
DESCRIPTION:Link zur Ausschreibung
URL:https://esvlokschoeneweide.de/event/offenes-vereinssportfest/
LOCATION:Sportplatz des ESV Lok Berlin-Schöneweide e.V.\, Adlergestell 105\, Berlin\, Berlin\, 12439\, Deutschland
ATTACH;FMTTYPE=image/png:https://esvlokschoeneweide.de/wp-content/uploads/2015/04/runners-304972_640.png
ORGANIZER;CN="Hans-G%C3%BCnther Dirks":MAILTO:lok.schoeneweide@berlin.de
END:VEVENT
END:VCALENDAR