BEGIN:VCALENDAR
VERSION:2.0
PRODID:-//Kanu / Wasserwandern - ECPv6.15.17//NONSGML v1.0//EN
CALSCALE:GREGORIAN
METHOD:PUBLISH
X-ORIGINAL-URL:https://esvlokschoeneweide.de/kanu
X-WR-CALDESC:Veranstaltungen für Kanu / Wasserwandern
REFRESH-INTERVAL;VALUE=DURATION:PT1H
X-Robots-Tag:noindex
X-PUBLISHED-TTL:PT1H
BEGIN:VTIMEZONE
TZID:Europe/Berlin
BEGIN:DAYLIGHT
TZOFFSETFROM:+0100
TZOFFSETTO:+0200
TZNAME:CEST
DTSTART:20250330T010000
END:DAYLIGHT
BEGIN:STANDARD
TZOFFSETFROM:+0200
TZOFFSETTO:+0100
TZNAME:CET
DTSTART:20251026T010000
END:STANDARD
BEGIN:DAYLIGHT
TZOFFSETFROM:+0100
TZOFFSETTO:+0200
TZNAME:CEST
DTSTART:20260329T010000
END:DAYLIGHT
BEGIN:STANDARD
TZOFFSETFROM:+0200
TZOFFSETTO:+0100
TZNAME:CET
DTSTART:20261025T010000
END:STANDARD
BEGIN:DAYLIGHT
TZOFFSETFROM:+0100
TZOFFSETTO:+0200
TZNAME:CEST
DTSTART:20270328T010000
END:DAYLIGHT
BEGIN:STANDARD
TZOFFSETFROM:+0200
TZOFFSETTO:+0100
TZNAME:CET
DTSTART:20271031T010000
END:STANDARD
END:VTIMEZONE
BEGIN:VEVENT
DTSTART;TZID=Europe/Berlin:20260328T100000
DTEND;TZID=Europe/Berlin:20260328T160000
DTSTAMP:20260420T233626
CREATED:20220308T231241Z
LAST-MODIFIED:20260306T070240Z
UID:969-1774692000-1774713600@esvlokschoeneweide.de
SUMMARY:Mitgliederversammlung und Arbeitseinsatz der Abteilung Kanu
DESCRIPTION:Wir laden euch zur 1. Mitgliederversammlung des ESV der Abteilung Kanu in diesem Jahr ein. \nWir starten um 10 Uhr mit einem Arbeitseinsatz um das Bootshaus für die Saison vorzubereiten.\nIm Anschluss findet die Mitgliederversammlung statt.\nWir möchten gerne mit euch über die Aktuellen\, Abgeschlossenen und Anstehenden Projekte reden und andere aktuelle Themen besprechen.  \nWir freuen uns auf eine zahlreiche Teilnahme   \n  \n  \n\n							 Teilnahme an der ESV Winterwanderung am 08.01.2023Ja Ja + 1 weitere PersonJa + 2 weitere PersonenJa + 3 weitere Personenungewissnein0 votes · 0 answersAbstimmenErgebnisseZurück zur Abstimmung
URL:https://esvlokschoeneweide.de/kanu/event/mitgliederversammlung-der-abteilung-kanu-2022-10-22/
LOCATION:ESV Kanuheim\, Rohrwallallee 41\, Berlin\, Berlin\, 12527\, Deutschland
CATEGORIES:Arbeitseinsatz,ESV-Kanu,Sonstige Veranstaltung
ATTACH;FMTTYPE=image/png:https://esvlokschoeneweide.de/kanu/files/2023/04/Logo-Kanu-SUP-lang-e1693690945283.png
END:VEVENT
BEGIN:VEVENT
DTSTART;TZID=Europe/Berlin:20260329T110000
DTEND;TZID=Europe/Berlin:20260329T170000
DTSTAMP:20260420T233626
CREATED:20240218T142725Z
LAST-MODIFIED:20260306T070627Z
UID:1490-1774782000-1774803600@esvlokschoeneweide.de
SUMMARY:Anpaddeln der Berliner Kanuvereine
DESCRIPTION:Märkischer Kanuverein 53 e.V. \nSitz/Bootshaus: Grünauer Str. 101 b\, 12557 Berlin\, Tel. (030) 6 55 54 80 \nGeschäftsanschrift: MKV 53 e.V. c/o Conny Pergande\, Banater Str. 7\, 12623 Berlin \nUnsere Homepage: http://www.mkv53.de Mail: kontakt@mkv53.de \nAnpaddeln im Dahme-Spree Bereich 2026\n\nWir laden alle Mitglieder des Berliner Kanuverbandes und Freunde so wie Interessierte am Kanusport\nzum Start des Paddeljahres 2026 im Dahme-Spree Bereich ein am \nSonntag den 29. März 2026 um 12 Uhr\nam Bootsanleger des MKV 53 e.V. (52\,4379541°\, 13\,5739384°) mit Kanus anzulegen.\nGemeinsam wollen wir die Winterfahrten Revue passieren lassen und uns für die warme Paddelzeit\nmotivieren und gemeinsame Fahrten planen.\nEs werden Würstchen und Käse vom Grill\, Salate\, Kuchen sowie warme und kalte Getränke zum\nVerkauf angeboten.\nZur besseren Planung würden wir uns freuen wenn teilnehmende Vereine sich bis zum 22.03.2026\nunter wanderwart@mkv53.de melden und die ungefähre Anzahl an Teilnehmern aus ihremVerein\nanmelden.\nFalls eine Anfahrt ohne Kanu geplant ist findet Ihr uns in der Grünauer Str. 101b\, 12557 Berlin. Unser\nVerein liegt hinter dem grünen Wohnblock\, bitte durch das Tor hindurchgehen\, nach circa 50m ist auf\nder linken Seite der Eingang zu einem Segelverein und zu unserem Vereinsgelände. Wenn Ihr an der\nöffentlichen Badestelle „Müller Ecke“ steht seit Ihr zu weit gegangen.\nÖffentliche Verkehrsmittel: Die Tramstation „Vollkropfgraben“ (Linie 68) ist nur 280m von\nunserem Verein entfernt.\nFahrrad: Auf unserem Gelände ist ein Fahrradparkplatz vorhanden.\nAuto: Unser Verein liegt in einer Wohngegend mit sehr wenigen öffentlichen Parkplätzen. Auf\nSupermarktparkplätzen in der Nähe werden „Knöllchen“ verteilt und auf anderen privaten Parkplätzen\nim Umkreis wird aktiv abgeschleppt. Daher die dringende Empfehlung per Kanu oder mit öffentlichen\nVerkehrsmitteln anzureisen. \nMit sportlichen Grüßen\,\nder Teamvorstand des MKV 53 e.V. \nDie Teilnahme an der Versanstaltung erfolgt auf eigene Gefahr. Jede Haftung des Veranstalters und seiner Hilfspersonen für Personen- und\nSachschäden ist ausgeschloßen\, ausgenommen bei Vorsatz oder grober Fahrläßigkeit. Mit der Teilnahme an der Veranstaltung wird dieser\nHaftungsausschluß akzeptiert.
URL:https://esvlokschoeneweide.de/kanu/event/anpaddeln-der-berliner-kanuvereine-2/
LOCATION:Berlin
CATEGORIES:Kanufahrt,LKV Berlin,Sonstige Veranstaltung,Sonstige Veranstaltung mit Boot,Sonstige Veranstaltung ohne Boot
ATTACH;FMTTYPE=image/jpeg:https://esvlokschoeneweide.de/kanu/files/2023/09/ESV-Wappen-dunkel.jpg
END:VEVENT
END:VCALENDAR