BEGIN:VCALENDAR
VERSION:2.0
PRODID:-//Kanu / Wasserwandern - ECPv6.15.17//NONSGML v1.0//EN
CALSCALE:GREGORIAN
METHOD:PUBLISH
X-WR-CALNAME:Kanu / Wasserwandern
X-ORIGINAL-URL:https://esvlokschoeneweide.de/kanu
X-WR-CALDESC:Veranstaltungen für Kanu / Wasserwandern
REFRESH-INTERVAL;VALUE=DURATION:PT1H
X-Robots-Tag:noindex
X-PUBLISHED-TTL:PT1H
BEGIN:VTIMEZONE
TZID:Europe/Berlin
BEGIN:DAYLIGHT
TZOFFSETFROM:+0100
TZOFFSETTO:+0200
TZNAME:CEST
DTSTART:20220327T010000
END:DAYLIGHT
BEGIN:STANDARD
TZOFFSETFROM:+0200
TZOFFSETTO:+0100
TZNAME:CET
DTSTART:20221030T010000
END:STANDARD
BEGIN:DAYLIGHT
TZOFFSETFROM:+0100
TZOFFSETTO:+0200
TZNAME:CEST
DTSTART:20230326T010000
END:DAYLIGHT
BEGIN:STANDARD
TZOFFSETFROM:+0200
TZOFFSETTO:+0100
TZNAME:CET
DTSTART:20231029T010000
END:STANDARD
BEGIN:DAYLIGHT
TZOFFSETFROM:+0100
TZOFFSETTO:+0200
TZNAME:CEST
DTSTART:20240331T010000
END:DAYLIGHT
BEGIN:STANDARD
TZOFFSETFROM:+0200
TZOFFSETTO:+0100
TZNAME:CET
DTSTART:20241027T010000
END:STANDARD
END:VTIMEZONE
BEGIN:VEVENT
DTSTART;TZID=Europe/Berlin:20230107T090000
DTEND;TZID=Europe/Berlin:20230107T160000
DTSTAMP:20260426T021645
CREATED:20221206T233331Z
LAST-MODIFIED:20221207T045740Z
UID:1015-1673082000-1673107200@esvlokschoeneweide.de
SUMMARY:LKV - WETTERKUNDE
DESCRIPTION:Wetterworkshop LKV 2023 \nTerminkategorie: Sicherheitskurs \n\nWETTERKUNDE\nGanztägiges Seminar zur Wetterkunde\n  \n\nGewässerkategorie: Küstengewässer\, Seengewässer\, Ströme\nDisziplin: Freizeitsport\, Seekajak\n\n\nInfo\n\n\n\nvom\n07.01.2023\n\n\nbis\n07.01.2023\n\n\nMeldeschluss\n30.12.2022\n\n\nStadt\nBerlin\n\n\nOrt\nLLZ Berlin Tegel\, Eisenhammerweg 22 A\n\n\nLand\nDeutschland\n\n\nAusrichterverein\nKanuverein Falke e. V.\n\n\nVerbände\nLKV Berlin e.V.\n\n\nZielgruppe\nFortgeschrittene\n\n\n\nKontakt\n\n\n\nAnsprechpartner\nKlaus Fischer\n\n\nE-Mail\nklaus.fischer@kvfalke.de\n\n\nVereinshomepage\nhttps://kanuvereinfalke.de/
URL:https://esvlokschoeneweide.de/kanu/event/lkv-wetterkunde/
LOCATION:LKV\, Eisenhammerweg 22a\, Berlin\, Berlin\, 13507\, Deutschland
CATEGORIES:Fortgeschrittenenkurs,LKV Berlin,Sicherheitskurs
ATTACH;FMTTYPE=image/png:https://esvlokschoeneweide.de/kanu/files/2022/12/Sportprogramm-1-e1677536815535.png
ORGANIZER;CN="Kanu-Verein Falke e.V. Berlin":MAILTO:klaus.fischer@kanuvereinfalke.de
END:VEVENT
END:VCALENDAR