BEGIN:VCALENDAR
VERSION:2.0
PRODID:-//Kanu / Wasserwandern - ECPv6.15.17//NONSGML v1.0//EN
CALSCALE:GREGORIAN
METHOD:PUBLISH
X-ORIGINAL-URL:https://esvlokschoeneweide.de/kanu
X-WR-CALDESC:Veranstaltungen für Kanu / Wasserwandern
REFRESH-INTERVAL;VALUE=DURATION:PT1H
X-Robots-Tag:noindex
X-PUBLISHED-TTL:PT1H
BEGIN:VTIMEZONE
TZID:Europe/Berlin
BEGIN:DAYLIGHT
TZOFFSETFROM:+0100
TZOFFSETTO:+0200
TZNAME:CEST
DTSTART:20220327T010000
END:DAYLIGHT
BEGIN:STANDARD
TZOFFSETFROM:+0200
TZOFFSETTO:+0100
TZNAME:CET
DTSTART:20221030T010000
END:STANDARD
BEGIN:DAYLIGHT
TZOFFSETFROM:+0100
TZOFFSETTO:+0200
TZNAME:CEST
DTSTART:20230326T010000
END:DAYLIGHT
BEGIN:STANDARD
TZOFFSETFROM:+0200
TZOFFSETTO:+0100
TZNAME:CET
DTSTART:20231029T010000
END:STANDARD
BEGIN:DAYLIGHT
TZOFFSETFROM:+0100
TZOFFSETTO:+0200
TZNAME:CEST
DTSTART:20240331T010000
END:DAYLIGHT
BEGIN:STANDARD
TZOFFSETFROM:+0200
TZOFFSETTO:+0100
TZNAME:CET
DTSTART:20241027T010000
END:STANDARD
END:VTIMEZONE
BEGIN:VEVENT
DTSTART;VALUE=DATE:20230304
DTEND;VALUE=DATE:20230306
DTSTAMP:20260425T185706
CREATED:20230202T024015Z
LAST-MODIFIED:20230202T025114Z
UID:1201-1677970800-1678057199@esvlokschoeneweide.de
SUMMARY:FUCHSJAGD 2023
DESCRIPTION:Geländespiel mit Kanus\, wer fängt den Fuchs \n\nEiner der Teilnehmer ist der Fuchs. Er wird von den übrigen Teilnehmern gejagt. Der Sieger wird im darauffolgenden Jahr der Fuchs sein. Als Belohnung gibt es eine Suppe und Tee/Kaffee.\n\nGewässer: Havel / Tiefwerder\nGewässerkategorie: Nicht schiffbare Gewässer\, Seengewässer\nDisziplin: Freizeitsport\nBootsklasse: Kajak\, Canadier\, Faltboot\n\n\nKontakt\n\n\n\nAnsprechpartner\nRalf Hübl\n\n\nTel\n0177/8749352\n\n\nE-Mail\nwanderpaddeln@kanuklub-charlottenburg.de\n\n\nVereinshomepage\nhttps://www.kanuklub-charlottenburg.de
URL:https://esvlokschoeneweide.de/kanu/event/fuchsjagd-2023/
LOCATION:Kanuklub Charlottenburg\, Bocksfeldstr. 11\, Berlin\, Berlin\, 13595\, Deutschland
CATEGORIES:LKV Berlin,Sonstige Veranstaltung mit Boot
ATTACH;FMTTYPE=image/png:https://esvlokschoeneweide.de/kanu/files/2022/12/Sportprogramm-1-e1677536815535.png
ORGANIZER;CN="Kanuklub Charlottenburg":MAILTO:wanderpaddeln@kanuklub-charlottenburg.de
END:VEVENT
END:VCALENDAR