BEGIN:VCALENDAR
VERSION:2.0
PRODID:-//Kanu / Wasserwandern - ECPv6.15.17//NONSGML v1.0//EN
CALSCALE:GREGORIAN
METHOD:PUBLISH
X-WR-CALNAME:Kanu / Wasserwandern
X-ORIGINAL-URL:https://esvlokschoeneweide.de/kanu
X-WR-CALDESC:Veranstaltungen für Kanu / Wasserwandern
REFRESH-INTERVAL;VALUE=DURATION:PT1H
X-Robots-Tag:noindex
X-PUBLISHED-TTL:PT1H
BEGIN:VTIMEZONE
TZID:Europe/Berlin
BEGIN:DAYLIGHT
TZOFFSETFROM:+0100
TZOFFSETTO:+0200
TZNAME:CEST
DTSTART:20230326T010000
END:DAYLIGHT
BEGIN:STANDARD
TZOFFSETFROM:+0200
TZOFFSETTO:+0100
TZNAME:CET
DTSTART:20231029T010000
END:STANDARD
BEGIN:DAYLIGHT
TZOFFSETFROM:+0100
TZOFFSETTO:+0200
TZNAME:CEST
DTSTART:20240331T010000
END:DAYLIGHT
BEGIN:STANDARD
TZOFFSETFROM:+0200
TZOFFSETTO:+0100
TZNAME:CET
DTSTART:20241027T010000
END:STANDARD
BEGIN:DAYLIGHT
TZOFFSETFROM:+0100
TZOFFSETTO:+0200
TZNAME:CEST
DTSTART:20250330T010000
END:DAYLIGHT
BEGIN:STANDARD
TZOFFSETFROM:+0200
TZOFFSETTO:+0100
TZNAME:CET
DTSTART:20251026T010000
END:STANDARD
END:VTIMEZONE
BEGIN:VEVENT
DTSTART;TZID=Europe/Berlin:20240303T093000
DTEND;TZID=Europe/Berlin:20240303T160000
DTSTAMP:20260425T001930
CREATED:20240218T141723Z
LAST-MODIFIED:20240218T141824Z
UID:1485-1709458200-1709481600@esvlokschoeneweide.de
SUMMARY:Fuchsjagd 2024
DESCRIPTION:Der Kanuklub Charlottenburg lädt ein zur Fuchsjagd 2024 LINK \nSonntag\, 3. März 2024 \nTreff: 9 Uhr 30 \nSofern der Haussteg vereist ist\, werden mögliche Alternativen geprüft und kurzfristig bekanntgegeben. \nAnschl. Imbiss im Klubhaus\, Bocksfeldstraße 11\, 13595 Berlin \nInfos bei Ralf Hübl\, Tel. 0177 87 49 352\, \nwanderpaddeln@kanuklub-charlottenburg.de \nMeldeschluss:\nÜberweisungseingang zum 25. Februar\, kurzfristige Nachmeldungen möglich. \nStartgeld:\n7\,00 € pro Person bei rechtzeitigem Überweisungseingang auf folgendes Konto: \nKanuklub Charlottenburg e.V.\nIBAN DE53 1001 0010 0202 4221 08\,\nPostbank Berlin \nVerwendungszweck: Fuchsjagd + Vereinsname + Namen der Teilnehmer\nDas erhöhte Startgeld bei Nachmeldung und Bezahlung vor Ort beträgt 9\,00 €.\nDer Imbiss ist im Startgeld enthalten. Zusätzlich können Getränke an unserer Bar erworben werden. Es gilt die dort ausliegende Preisliste.
URL:https://esvlokschoeneweide.de/kanu/event/fuchsjagd-2024/
CATEGORIES:LKV Berlin
ATTACH;FMTTYPE=image/jpeg:https://esvlokschoeneweide.de/kanu/files/2023/09/ESV-Wappen-dunkel.jpg
END:VEVENT
END:VCALENDAR