BEGIN:VCALENDAR
VERSION:2.0
PRODID:-//Tennis - ECPv6.15.17//NONSGML v1.0//EN
CALSCALE:GREGORIAN
METHOD:PUBLISH
X-ORIGINAL-URL:https://esvlokschoeneweide.de/tennis
X-WR-CALDESC:Veranstaltungen für Tennis
REFRESH-INTERVAL;VALUE=DURATION:PT1H
X-Robots-Tag:noindex
X-PUBLISHED-TTL:PT1H
BEGIN:VTIMEZONE
TZID:Europe/Berlin
BEGIN:DAYLIGHT
TZOFFSETFROM:+0100
TZOFFSETTO:+0200
TZNAME:CEST
DTSTART:20250330T010000
END:DAYLIGHT
BEGIN:STANDARD
TZOFFSETFROM:+0200
TZOFFSETTO:+0100
TZNAME:CET
DTSTART:20251026T010000
END:STANDARD
BEGIN:DAYLIGHT
TZOFFSETFROM:+0100
TZOFFSETTO:+0200
TZNAME:CEST
DTSTART:20260329T010000
END:DAYLIGHT
BEGIN:STANDARD
TZOFFSETFROM:+0200
TZOFFSETTO:+0100
TZNAME:CET
DTSTART:20261025T010000
END:STANDARD
BEGIN:DAYLIGHT
TZOFFSETFROM:+0100
TZOFFSETTO:+0200
TZNAME:CEST
DTSTART:20270328T010000
END:DAYLIGHT
BEGIN:STANDARD
TZOFFSETFROM:+0200
TZOFFSETTO:+0100
TZNAME:CET
DTSTART:20271031T010000
END:STANDARD
END:VTIMEZONE
BEGIN:VEVENT
DTSTART;TZID=Europe/Berlin:20260821T080000
DTEND;TZID=Europe/Berlin:20260823T180000
DTSTAMP:20260424T045829
CREATED:20260324T111630Z
LAST-MODIFIED:20260324T111630Z
UID:4843-1787299200-1787508000@esvlokschoeneweide.de
SUMMARY:Lok Turnier
DESCRIPTION:Wir veranstalten in diesem Jahr wieder das große Lok Turnier\, mit hoffentlich viel Spaß und und spannenden\nSpielen. Wir freuen uns auf euch. \n 
URL:https://esvlokschoeneweide.de/tennis/event/lok-turnier/
LOCATION:Tennisplätze ESV Lok Berlin-Schöneweide e.V.\, Adlergestell 105\, Berlin\, 12439
ORGANIZER;CN="ESV Lok Berlin-Sch%C3%B6neweide e.V. - Abteilung Tennis":MAILTO:tennis@esvlokschoeneweide.de
END:VEVENT
BEGIN:VEVENT
DTSTART;VALUE=DATE:20260829
DTEND;VALUE=DATE:20260830
DTSTAMP:20260424T045829
CREATED:20250509T174812Z
LAST-MODIFIED:20260423T194346Z
UID:4602-1787961600-1788047999@esvlokschoeneweide.de
SUMMARY:Klubhausbuchung
DESCRIPTION:
URL:https://esvlokschoeneweide.de/tennis/event/klubhausnutzung-inkl-terrasse-5/
LOCATION:Tennisplätze ESV Lok Berlin-Schöneweide e.V.\, Adlergestell 105\, Berlin\, 12439
ATTACH;FMTTYPE=image/jpeg:https://esvlokschoeneweide.de/tennis/files/2019/06/DSCN0980_Slider.jpg
ORGANIZER;CN="ESV Lok Berlin-Sch%C3%B6neweide e.V. - Abteilung Tennis":MAILTO:tennis@esvlokschoeneweide.de
END:VEVENT
BEGIN:VEVENT
DTSTART;TZID=Europe/Berlin:20260902T100000
DTEND;TZID=Europe/Berlin:20260902T130000
DTSTAMP:20260424T045829
CREATED:20250401T195144Z
LAST-MODIFIED:20260423T200906Z
UID:4534-1788343200-1788354000@esvlokschoeneweide.de
SUMMARY:Senioren-Sport-Treff
DESCRIPTION:Link zu weiteren Informationen folgt
URL:https://esvlokschoeneweide.de/tennis/event/senioren-sport-treff-2/
LOCATION:Sportplatz ESV Lok Berlin-Schöneweide e.V.\, Adlergestell 105\, Berlin\, 12439\, Deutschland
ATTACH;FMTTYPE=image/jpeg:https://esvlokschoeneweide.de/tennis/files/2022/04/seniorensport-senioren-sport-e1648833427965.jpg
END:VEVENT
BEGIN:VEVENT
DTSTART;TZID=Europe/Berlin:20260905T090000
DTEND;TZID=Europe/Berlin:20260905T170000
DTSTAMP:20260424T045829
CREATED:20250401T192632Z
LAST-MODIFIED:20260423T195205Z
UID:4523-1788598800-1788627600@esvlokschoeneweide.de
SUMMARY:LK Turnier
DESCRIPTION:  \n 
URL:https://esvlokschoeneweide.de/tennis/event/lk-tagesturnier-herren-2/
LOCATION:Tennisplätze ESV Lok Berlin-Schöneweide e.V.\, Adlergestell 105\, Berlin\, 12439
ATTACH;FMTTYPE=image/jpeg:https://esvlokschoeneweide.de/tennis/files/2019/07/IMG_0174_verkleinert-e1626092591445.jpg
ORGANIZER;CN="ESV Lok Berlin-Sch%C3%B6neweide e.V. - Abteilung Tennis":MAILTO:tennis@esvlokschoeneweide.de
END:VEVENT
BEGIN:VEVENT
DTSTART;VALUE=DATE:20260912
DTEND;VALUE=DATE:20260913
DTSTAMP:20260424T045829
CREATED:20250327T072328Z
LAST-MODIFIED:20260423T194738Z
UID:4513-1789171200-1789257599@esvlokschoeneweide.de
SUMMARY:Klubhausbuchung
DESCRIPTION:
URL:https://esvlokschoeneweide.de/tennis/event/klubhausnutzung-inkl-terrasse-4/
LOCATION:Tennisplätze ESV Lok Berlin-Schöneweide e.V.\, Adlergestell 105\, Berlin\, 12439
ATTACH;FMTTYPE=image/jpeg:https://esvlokschoeneweide.de/tennis/files/2019/06/DSCN0980_Slider.jpg
ORGANIZER;CN="ESV Lok Berlin-Sch%C3%B6neweide e.V. - Abteilung Tennis":MAILTO:tennis@esvlokschoeneweide.de
END:VEVENT
BEGIN:VEVENT
DTSTART;TZID=Europe/Berlin:20260919T093000
DTEND;TZID=Europe/Berlin:20260920T180000
DTSTAMP:20260424T045829
CREATED:20201229T105333Z
LAST-MODIFIED:20260423T195049Z
UID:2882-1789810200-1789927200@esvlokschoeneweide.de
SUMMARY:Klubmeisterschaften Einzel&Doppel
DESCRIPTION:Liebe Tennisfreunde\, \nWer sind die Besten unserer Abteilung? Darum geht es an diesem Wochenende\, zu dem ich euch gern einladen möchte. \nNeben den Vereinsmitgliedern sind ebenfalls alle in einer ESV Lok Mannschaft gemeldeten Gastspieler spielberechtigt. \nANMELDUNG: Verbindliche Meldungen bitte in die Meldeliste im Klubhaus oder über das Kontaktformular. \nNENNGELD: 10 Euro/Person \nMODUS \n\nEinzel & Doppel Konkurrenzen\nAltersklassen je nach Meldungen\nKO- System inkl. Nebenrunde oder Gruppenspiele\n2 Gewinnsätze\, 3 Satz Champions- Tie-Break\n\nMit sportlichen Grüßen\, \nTorsten Salzmann \nESV Lok Berlin-Schöneweide \nSportwart Tennis \n\n\n  \n\n\n\n Dein Name (Pflichtfeld)\n \n \n Deine E-Mail-Adresse (Pflichtfeld)\n \n \n Betreff\n \n \n Deine Nachricht
URL:https://esvlokschoeneweide.de/tennis/event/klubmeisterschaften-einzeldoppel/
LOCATION:Tennisplätze ESV Lok Berlin-Schöneweide e.V.\, Adlergestell 105\, Berlin\, 12439
ATTACH;FMTTYPE=image/jpeg:https://esvlokschoeneweide.de/tennis/files/2018/06/IMG-20180624-WA0023-e1626094030372.jpg
ORGANIZER;CN="ESV Lok Berlin-Sch%C3%B6neweide e.V. - Abteilung Tennis":MAILTO:tennis@esvlokschoeneweide.de
END:VEVENT
BEGIN:VEVENT
DTSTART;TZID=Europe/Berlin:20261008T100000
DTEND;TZID=Europe/Berlin:20261008T160000
DTSTAMP:20260424T045829
CREATED:20250401T192912Z
LAST-MODIFIED:20260423T195406Z
UID:4525-1791453600-1791475200@esvlokschoeneweide.de
SUMMARY:Kegelspaß für Senioren
DESCRIPTION:Link zu weiteren Informationen folgt.
URL:https://esvlokschoeneweide.de/tennis/event/kegelspass-fuer-senioren-2/
LOCATION:Kegelbahn ESV Lok Berlin-Schöneweide e.V.\, Adlergestell 105\, Berlin\, 12439\, Deutschland
ATTACH;FMTTYPE=image/jpeg:https://esvlokschoeneweide.de/tennis/files/2022/04/Kugel_und_Kegel.jpg
END:VEVENT
BEGIN:VEVENT
DTSTART;TZID=Europe/Berlin:20261011T110000
DTEND;TZID=Europe/Berlin:20261011T190000
DTSTAMP:20260424T045829
CREATED:20250318T090643Z
LAST-MODIFIED:20260423T195525Z
UID:4391-1791716400-1791745200@esvlokschoeneweide.de
SUMMARY:Schleifchenturnier/Saisonabschluss
DESCRIPTION:Beim letzten spielerischen Event des Jahres – unserem Schleifchenturnier – laden wir nochmal alle Tennisspieler\, ob Anfänger oder Fortgeschrittener\, recht herzlich ein. Es handelt sich um ein Doppelturnier\, bei welchem in mehreren Runden jeweils neue Paarungen nach Spielstärke zugelost werden. Hier geht es auch darum neue Kontakte zu knüpfen. \nIm Anschluss folgt dann gleich unser nächstes Highlight: ob Kesselgulasch oder Haxen\, bei gutem Essen und gemütlichem Beisammensein lassen wir die Saison ausklingen.
URL:https://esvlokschoeneweide.de/tennis/event/jahresabschluss-mit-schleifchenturnier-2/
LOCATION:Tennisplätze ESV Lok Berlin-Schöneweide e.V.\, Adlergestell 105\, Berlin\, 12439
ATTACH;FMTTYPE=image/jpeg:https://esvlokschoeneweide.de/tennis/files/2012/10/Schleifchenturnier.jpg
ORGANIZER;CN="ESV Lok Berlin-Sch%C3%B6neweide e.V. - Abteilung Tennis":MAILTO:tennis@esvlokschoeneweide.de
END:VEVENT
BEGIN:VEVENT
DTSTART;TZID=Europe/Berlin:20261107T100000
DTEND;TZID=Europe/Berlin:20261107T130000
DTSTAMP:20260424T045829
CREATED:20250402T054930Z
LAST-MODIFIED:20260423T195644Z
UID:4536-1794045600-1794056400@esvlokschoeneweide.de
SUMMARY:Arbeitseinsatz Herbst (1)
DESCRIPTION:Die Bäume haben sich verwandelt: das grüne Sommerkleid ist einer bunten Farbenpracht gewichen\, welches langsam zu Boden sinkt. Und spätestens in einem Monat werden sie ihr ganzes Blätterkleid abgelegt haben. Unsere Sportanlage wird dann mit jeder Menge Laub überzogen sein\, welches über den Winter nicht liegen bleiben soll. Wir bitten deshalb alle unsere Mitglieder um tatkräftige Unterstützung bei der Laubbeseitigung. Bringt hierzu gern auch eure Eltern\, Kinder\, Ehepartner mit – denn: „viele Hände\, schnelles Ende“. Wir freuen uns über jede Unterstützung. Wer hat\, darf auch eine(n) Harke/Rechen beisteuern. Wie immer belohnen wir alle Helfer mit einem kleinen Snack. Die Anmeldung erfolgt über die verschickte Terminumfrage.
URL:https://esvlokschoeneweide.de/tennis/event/arbeitseinsatz-2/
LOCATION:Tennisplätze ESV Lok Berlin-Schöneweide e.V.\, Adlergestell 105\, Berlin\, 12439
ATTACH;FMTTYPE=image/jpeg:https://esvlokschoeneweide.de/tennis/files/2017/03/boy-1209964_1920-1024x692-1-e1626093870126.jpg
END:VEVENT
BEGIN:VEVENT
DTSTART;TZID=Europe/Berlin:20261115T100000
DTEND;TZID=Europe/Berlin:20261115T130000
DTSTAMP:20260424T045829
CREATED:20250402T055429Z
LAST-MODIFIED:20260423T195803Z
UID:4538-1794736800-1794747600@esvlokschoeneweide.de
SUMMARY:Arbeitseinsatz Herbst (2)
DESCRIPTION:Die Bäume haben sich verwandelt: das grüne Sommerkleid ist einer bunten Farbenpracht gewichen\, welches langsam zu Boden sinkt. Und spätestens in einem Monat werden sie ihr ganzes Blätterkleid abgelegt haben. Unsere Sportanlage wird dann mit jeder Menge Laub überzogen sein\, welches über den Winter nicht liegen bleiben soll. Wir bitten deshalb alle unsere Mitglieder um tatkräftige Unterstützung bei der Laubbeseitigung. Bringt hierzu gern auch eure Eltern\, Kinder\, Ehepartner mit – denn: „viele Hände\, schnelles Ende“. Wir freuen uns über jede Unterstützung. Wer hat\, darf auch eine(n) Harke/Rechen beisteuern. Wie immer belohnen wir alle Helfer mit einem kleinen Snack. Die Anmeldung erfolgt über die verschickte Terminumfrage.
URL:https://esvlokschoeneweide.de/tennis/event/arbeitseinsatz-3/
LOCATION:Tennisplätze ESV Lok Berlin-Schöneweide e.V.\, Adlergestell 105\, Berlin\, 12439
ATTACH;FMTTYPE=image/jpeg:https://esvlokschoeneweide.de/tennis/files/2017/03/boy-1209964_1920-1024x692-1-e1626093870126.jpg
END:VEVENT
END:VCALENDAR