BEGIN:VCALENDAR
VERSION:2.0
PRODID:-//Tennis - ECPv6.15.17//NONSGML v1.0//EN
CALSCALE:GREGORIAN
METHOD:PUBLISH
X-ORIGINAL-URL:https://esvlokschoeneweide.de/tennis
X-WR-CALDESC:Veranstaltungen für Tennis
REFRESH-INTERVAL;VALUE=DURATION:PT1H
X-Robots-Tag:noindex
X-PUBLISHED-TTL:PT1H
BEGIN:VTIMEZONE
TZID:Europe/Berlin
BEGIN:DAYLIGHT
TZOFFSETFROM:+0100
TZOFFSETTO:+0200
TZNAME:CEST
DTSTART:20250330T010000
END:DAYLIGHT
BEGIN:STANDARD
TZOFFSETFROM:+0200
TZOFFSETTO:+0100
TZNAME:CET
DTSTART:20251026T010000
END:STANDARD
BEGIN:DAYLIGHT
TZOFFSETFROM:+0100
TZOFFSETTO:+0200
TZNAME:CEST
DTSTART:20260329T010000
END:DAYLIGHT
BEGIN:STANDARD
TZOFFSETFROM:+0200
TZOFFSETTO:+0100
TZNAME:CET
DTSTART:20261025T010000
END:STANDARD
BEGIN:DAYLIGHT
TZOFFSETFROM:+0100
TZOFFSETTO:+0200
TZNAME:CEST
DTSTART:20270328T010000
END:DAYLIGHT
BEGIN:STANDARD
TZOFFSETFROM:+0200
TZOFFSETTO:+0100
TZNAME:CET
DTSTART:20271031T010000
END:STANDARD
END:VTIMEZONE
BEGIN:VEVENT
DTSTART;TZID=Europe/Berlin:20261008T100000
DTEND;TZID=Europe/Berlin:20261008T160000
DTSTAMP:20260424T061306
CREATED:20250401T192912Z
LAST-MODIFIED:20260423T195406Z
UID:4525-1791453600-1791475200@esvlokschoeneweide.de
SUMMARY:Kegelspaß für Senioren
DESCRIPTION:Link zu weiteren Informationen folgt.
URL:https://esvlokschoeneweide.de/tennis/event/kegelspass-fuer-senioren-2/
LOCATION:Kegelbahn ESV Lok Berlin-Schöneweide e.V.\, Adlergestell 105\, Berlin\, 12439\, Deutschland
ATTACH;FMTTYPE=image/jpeg:https://esvlokschoeneweide.de/tennis/files/2022/04/Kugel_und_Kegel.jpg
END:VEVENT
BEGIN:VEVENT
DTSTART;TZID=Europe/Berlin:20261011T110000
DTEND;TZID=Europe/Berlin:20261011T190000
DTSTAMP:20260424T061306
CREATED:20250318T090643Z
LAST-MODIFIED:20260423T195525Z
UID:4391-1791716400-1791745200@esvlokschoeneweide.de
SUMMARY:Schleifchenturnier/Saisonabschluss
DESCRIPTION:Beim letzten spielerischen Event des Jahres – unserem Schleifchenturnier – laden wir nochmal alle Tennisspieler\, ob Anfänger oder Fortgeschrittener\, recht herzlich ein. Es handelt sich um ein Doppelturnier\, bei welchem in mehreren Runden jeweils neue Paarungen nach Spielstärke zugelost werden. Hier geht es auch darum neue Kontakte zu knüpfen. \nIm Anschluss folgt dann gleich unser nächstes Highlight: ob Kesselgulasch oder Haxen\, bei gutem Essen und gemütlichem Beisammensein lassen wir die Saison ausklingen.
URL:https://esvlokschoeneweide.de/tennis/event/jahresabschluss-mit-schleifchenturnier-2/
LOCATION:Tennisplätze ESV Lok Berlin-Schöneweide e.V.\, Adlergestell 105\, Berlin\, 12439
ATTACH;FMTTYPE=image/jpeg:https://esvlokschoeneweide.de/tennis/files/2012/10/Schleifchenturnier.jpg
ORGANIZER;CN="ESV Lok Berlin-Sch%C3%B6neweide e.V. - Abteilung Tennis":MAILTO:tennis@esvlokschoeneweide.de
END:VEVENT
BEGIN:VEVENT
DTSTART;TZID=Europe/Berlin:20261107T100000
DTEND;TZID=Europe/Berlin:20261107T130000
DTSTAMP:20260424T061307
CREATED:20250402T054930Z
LAST-MODIFIED:20260423T195644Z
UID:4536-1794045600-1794056400@esvlokschoeneweide.de
SUMMARY:Arbeitseinsatz Herbst (1)
DESCRIPTION:Die Bäume haben sich verwandelt: das grüne Sommerkleid ist einer bunten Farbenpracht gewichen\, welches langsam zu Boden sinkt. Und spätestens in einem Monat werden sie ihr ganzes Blätterkleid abgelegt haben. Unsere Sportanlage wird dann mit jeder Menge Laub überzogen sein\, welches über den Winter nicht liegen bleiben soll. Wir bitten deshalb alle unsere Mitglieder um tatkräftige Unterstützung bei der Laubbeseitigung. Bringt hierzu gern auch eure Eltern\, Kinder\, Ehepartner mit – denn: „viele Hände\, schnelles Ende“. Wir freuen uns über jede Unterstützung. Wer hat\, darf auch eine(n) Harke/Rechen beisteuern. Wie immer belohnen wir alle Helfer mit einem kleinen Snack. Die Anmeldung erfolgt über die verschickte Terminumfrage.
URL:https://esvlokschoeneweide.de/tennis/event/arbeitseinsatz-2/
LOCATION:Tennisplätze ESV Lok Berlin-Schöneweide e.V.\, Adlergestell 105\, Berlin\, 12439
ATTACH;FMTTYPE=image/jpeg:https://esvlokschoeneweide.de/tennis/files/2017/03/boy-1209964_1920-1024x692-1-e1626093870126.jpg
END:VEVENT
BEGIN:VEVENT
DTSTART;TZID=Europe/Berlin:20261115T100000
DTEND;TZID=Europe/Berlin:20261115T130000
DTSTAMP:20260424T061307
CREATED:20250402T055429Z
LAST-MODIFIED:20260423T195803Z
UID:4538-1794736800-1794747600@esvlokschoeneweide.de
SUMMARY:Arbeitseinsatz Herbst (2)
DESCRIPTION:Die Bäume haben sich verwandelt: das grüne Sommerkleid ist einer bunten Farbenpracht gewichen\, welches langsam zu Boden sinkt. Und spätestens in einem Monat werden sie ihr ganzes Blätterkleid abgelegt haben. Unsere Sportanlage wird dann mit jeder Menge Laub überzogen sein\, welches über den Winter nicht liegen bleiben soll. Wir bitten deshalb alle unsere Mitglieder um tatkräftige Unterstützung bei der Laubbeseitigung. Bringt hierzu gern auch eure Eltern\, Kinder\, Ehepartner mit – denn: „viele Hände\, schnelles Ende“. Wir freuen uns über jede Unterstützung. Wer hat\, darf auch eine(n) Harke/Rechen beisteuern. Wie immer belohnen wir alle Helfer mit einem kleinen Snack. Die Anmeldung erfolgt über die verschickte Terminumfrage.
URL:https://esvlokschoeneweide.de/tennis/event/arbeitseinsatz-3/
LOCATION:Tennisplätze ESV Lok Berlin-Schöneweide e.V.\, Adlergestell 105\, Berlin\, 12439
ATTACH;FMTTYPE=image/jpeg:https://esvlokschoeneweide.de/tennis/files/2017/03/boy-1209964_1920-1024x692-1-e1626093870126.jpg
END:VEVENT
END:VCALENDAR